BEGIN:VCALENDAR
VERSION:2.0
PRODID:-//ExpressionEngine Easy iCalendar plugin//NONSGML v2.0.0//EN
X-WR-TIMEZONE:America/Chicago
X-WR-CALNAME:Upcoming Auctions
BEGIN:VEVENT
UID:146528
DTSTAMP:20250907T130000
DTSTART:20250907T130000
DTEND:20250921T120000
SUMMARY:Ray Hippe Estate - Personal & Shop Items
LOCATION:5901 US Hwy 12 - South East Bay\, Maple Plain\, MN 55359\, US
DESCRIPTION:Online Only Auction - We will be selling the Ray Hippe Estat
 e of Personal and Shop Items. Including Tractors\, Cars\, UTV\,
  Lawn Maintenance Equipment\, Trailers\, Shop Tools\, Home Item
 s and More.  
URL:https://www.ferndaleauctions.com/auctions/detail/bw146528
SEQUENCE:1
END:VEVENT
END:VCALENDAR